BEGIN:VCALENDAR
VERSION:2.0
PRODID:-//腱引き師会イベント - ECPv6.13.2.1//NONSGML v1.0//EN
CALSCALE:GREGORIAN
METHOD:PUBLISH
X-WR-CALNAME:腱引き師会イベント
X-ORIGINAL-URL:https://kenbiki.jp/membersevents
X-WR-CALDESC:腱引き師会イベント のイベント
REFRESH-INTERVAL;VALUE=DURATION:PT1H
X-Robots-Tag:noindex
X-PUBLISHED-TTL:PT1H
BEGIN:VTIMEZONE
TZID:Asia/Tokyo
BEGIN:STANDARD
TZOFFSETFROM:+0900
TZOFFSETTO:+0900
TZNAME:JST
DTSTART:20260101T000000
END:STANDARD
END:VTIMEZONE
BEGIN:VEVENT
DTSTART;TZID=Asia/Tokyo:20260423T130000
DTEND;TZID=Asia/Tokyo:20260424T160000
DTSTAMP:20260423T200259
CREATED:20260316T025918Z
LAST-MODIFIED:20260316T025918Z
UID:485-1776949200-1777046400@kenbiki.jp
SUMMARY:【大分：4/23-4/24】女性のためのからだケア　初級・中級編
DESCRIPTION:新しくなった『女性のためのからだケア初級・中級編』では、従来の女性施術がより進化し、腸もみ・子宮調整・妊婦施術、中級編では子宮脱に対する施術が行なえるようになる資格です。 \nこの講習には段位があり、初級を受講した後、要件を満たすことで中級→上級→講師→教授と昇段することができます。 \n今回の講習では、初めて受ける初級の方の他、既に初級の資格を持つ方の中で要件を満たしている方には中級を目指していただくことができます。(中級認定には別途アンケートの提出などが必要です。) \n１日では学びきれない内容となっているので、たっぷり充実の2日間。 \nその効果において他の療法とは一線を画す女性施術ですが、 \nそれだけに施術者の「手」がさらに大事になってきます。 \nこの講習で、施術に必要な「手」を見直してみませんか？ \nまた、通常のカリキュラムにもすでに入っている「原始腸ループ」ですが、まだ学んでいない、よくわからないという方も多いと感じます。 \nすでに、女性施術の中でお客様に提供していらっしゃる方も、この機会にご一緒に もう一度技術の確認をしてみましょう。 \n新たにパワーアップした内容で展開する女性施術「女性のためのからだケア」で、自信を持ってお客さまに向き合えるよう、一緒にスキルアップしていきませんか？ \n皆さんのご参加をお待ちしています。 \n  \n【日時】\n4月23日（木）　13:00〜17:00\n4月24日（金）　10:00〜16:00　の2日間\n【会場】\n筋整流法　大分ひた腱引き道場\n〒877-0038\n大分県日田市下井手町1033-7\n\n【受講資格】腱引き師資格以上の女性\n【持ち物】会員証\n【参加費】60\,000円（宿泊費・食費は各自）\nお申し込みはコチラから…https://forms.gle/8543v5H8zZVLYKaBA \n【申込締切】3月31日（火）12:00
URL:https://kenbiki.jp/membersevents/event/%e3%80%90%e5%a4%a7%e5%88%86%ef%bc%9a4-23-4-24%e3%80%91%e5%a5%b3%e6%80%a7%e3%81%ae%e3%81%9f%e3%82%81%e3%81%ae%e3%81%8b%e3%82%89%e3%81%a0%e3%82%b1%e3%82%a2%e3%80%80%e5%88%9d%e7%b4%9a%e3%83%bb%e4%b8%ad/
LOCATION:筋整流法　大分ひた腱引き道場\, 下井手町1033-7\, 日田市\, 大分県\, 877-0038\, Japan
CATEGORIES:女性のためのからだケア資格講習会
END:VEVENT
END:VCALENDAR