BEGIN:VCALENDAR
VERSION:2.0
PRODID:-//腱引き師会イベント - ECPv6.13.2.1//NONSGML v1.0//EN
CALSCALE:GREGORIAN
METHOD:PUBLISH
X-WR-CALNAME:腱引き師会イベント
X-ORIGINAL-URL:https://kenbiki.jp/membersevents
X-WR-CALDESC:腱引き師会イベント のイベント
REFRESH-INTERVAL;VALUE=DURATION:PT1H
X-Robots-Tag:noindex
X-PUBLISHED-TTL:PT1H
BEGIN:VTIMEZONE
TZID:Asia/Tokyo
BEGIN:STANDARD
TZOFFSETFROM:+0900
TZOFFSETTO:+0900
TZNAME:JST
DTSTART:20250101T000000
END:STANDARD
END:VTIMEZONE
BEGIN:VEVENT
DTSTART;TZID=Asia/Tokyo:20251123T100000
DTEND;TZID=Asia/Tokyo:20251123T120000
DTSTAMP:20260424T080458
CREATED:20251031T070122Z
LAST-MODIFIED:20251031T070122Z
UID:392-1763892000-1763899200@kenbiki.jp
SUMMARY:東京勉強会
DESCRIPTION:テーマ\n1.内臓下垂\n2.弱視\n3.基本施術＋標準施術　解説続き
URL:https://kenbiki.jp/membersevents/event/tokyo1123/
LOCATION:五反田道場\, 品川区大崎4-2-2\, 東京都\, Japan
CATEGORIES:勉強会
END:VEVENT
BEGIN:VEVENT
DTSTART;TZID=Asia/Tokyo:20251118T130000
DTEND;TZID=Asia/Tokyo:20251118T150000
DTSTAMP:20260424T080458
CREATED:20251030T063245Z
LAST-MODIFIED:20251030T063245Z
UID:390-1763470800-1763478000@kenbiki.jp
SUMMARY:【新宿】部位別施術研究会
DESCRIPTION:嶋伝承者を講師に迎え、「部位別施術研究会」開催のお知らせ\n\n腱引き師各位\n\n来る11月度より、新人、若手の腱引き師、道場主、を対象に上記を開催致します。\nまずは基本施術の再確認、次に各部位の施術に対する各々の知識や施術方法等の\n情報交換を行い、最後に嶋伝承者より解説をして頂きます。11月の主題は腰痛です。\nお客様の主訴に対し未解決の事案等を持ち寄り、意見を交換し、施術をしあい、\nそしてその不明部分を嶋伝承者に解説していただき、みんなで結論を共有します。\nそれ以降は月ごとに部位を変えて研究会を行います。また、ベテラン腱引き師の方\nでもご自分の施術を見直し等、興味のある方はご参集下さい。\n\n日時　:　11月18日（火曜）　13時～15時\n\n場所　：　新宿しま整体院\n\n参加資格　：　腱引き師以上\n\n参加費　：　千円＊お試し価格（多数の場合、場所を変更し場所代は頭割りします）\n\n持ち物　：　会員証\n\n申し込み締め切り　：　11月14日（金曜）\n\n問い合わせ・申し込みはこちらから：菅野陽介　Eメール　yousuke-kan@ezweb.ne.jp
URL:https://kenbiki.jp/membersevents/event/%e3%80%90%e6%96%b0%e5%ae%bf%e3%80%91%e9%83%a8%e4%bd%8d%e5%88%a5%e6%96%bd%e8%a1%93%e7%a0%94%e7%a9%b6%e4%bc%9a/
LOCATION:新宿しま整体院\, 4-3-12\, 新宿区新宿\, 東京都\, 160-0022
CATEGORIES:勉強会
END:VEVENT
BEGIN:VEVENT
DTSTART;TZID=Asia/Tokyo:20251102T130000
DTEND;TZID=Asia/Tokyo:20251103T120000
DTSTAMP:20260424T080458
CREATED:20251003T071838Z
LAST-MODIFIED:20251003T074400Z
UID:362-1762088400-1762171200@kenbiki.jp
SUMMARY:第一回　熊本腱引きラボ
DESCRIPTION:「第一回　熊本腱引きラボ」 \n腱引きを研究し、手の感覚を練り上げる。各先生方の臨床で得た即効果的な技術を出し合い、応用施術に昇華させる。 \n問い合わせ先、担当者：甘田太亮 \n電話番号：080-8390-8494 \n宿泊は甘田道場(要スリーピング) \n食事は懇親会あり　朝食付き
URL:https://kenbiki.jp/membersevents/event/kumamotolabo1st/
LOCATION:甘田道場\, 長嶺東8丁目6-55\, 熊本市東区\, 熊本県\, 861-8038\, Japan
CATEGORIES:勉強会
END:VEVENT
BEGIN:VEVENT
DTSTART;TZID=Asia/Tokyo:20251101T120000
DTEND;TZID=Asia/Tokyo:20251102T150000
DTSTAMP:20260424T080458
CREATED:20250903T012924Z
LAST-MODIFIED:20250903T012924Z
UID:329-1761998400-1762095600@kenbiki.jp
SUMMARY:【宮城】第15回　北日本腱引き師交流会
DESCRIPTION:〇第15回 北日本腱引き師交流会 \n【日時】 \n11月1日（土）12:00～16:00 \n11月2日（日）10:00～15:00 \n【会場】 \n東北支部道場（仙台ボクシングジム内） \n仙台市青葉区五橋2-5-5（南北線五橋駅から徒歩5分） \n【費用】 \n5.000円（2日の昼食付） \n※当日徴収します。 \n【講師】 \n1）佐藤春基賢人 \n2）三本菅章郎伝承者 \n【内容】 \n1）佐藤春基賢人 \n「脊柱管狭窄症の施術法」 \n2）三本菅章郎伝承者 \n「腰部の解剖学」 \n「裏腱の実用的使用法」 \n【対象】 \n腱引き師 \n【申し込み法】 \n参加希望者、お問い合わせは三本菅に連絡してください。 \n連絡先080-6046-1067　LineID　sanchan7777 \n【申し込み締め切り】 \n10月20日（月）12:00 \n※参加者は色鉛筆を持参してください。 \n※1日の講習終了後、懇親会を開催します。 \n※宿泊は各自で予約してください。 \n\nたくさんの方のご参加をお待ちしています。
URL:https://kenbiki.jp/membersevents/event/%e3%80%90%e5%ae%ae%e5%9f%8e%e3%80%91%e7%ac%ac15%e5%9b%9e%e3%80%80%e5%8c%97%e6%97%a5%e6%9c%ac%e8%85%b1%e5%bc%95%e3%81%8d%e5%b8%ab%e4%ba%a4%e6%b5%81%e4%bc%9a/
LOCATION:東北支部道場\, 2-5-5\, 仙台市青葉区五橋\, 宮城県\, 980-0022\, Japan
CATEGORIES:勉強会
END:VEVENT
BEGIN:VEVENT
DTSTART;TZID=Asia/Tokyo:20250823T090000
DTEND;TZID=Asia/Tokyo:20250823T160000
DTSTAMP:20260424T080458
CREATED:20250722T070308Z
LAST-MODIFIED:20250722T070314Z
UID:256-1755939600-1755964800@kenbiki.jp
SUMMARY:【山梨県】 ホットストーンセラピー(初級～中級編)
DESCRIPTION:高木やすこ先生による、ホットストーンの講座を8月23日に山梨で開催することになりました。 \nホットストーンによる施術とは、温めた石を身体に乗せたり、石を使って施術することで、硬くなった筋肉を緩めたり滞った体液の流れを良くして不調に対応する技術です。 \n腱引きとは関係ないと思う方もいらっしゃると思いますが、ホットストーンと腱引きを併用することで 思わぬ効果が上がります。 \n腱引きとの相乗効果は小口代表のお墨付き！ \n夏の暑い時期はエアコンの冷気だけでなく、冷たい食べ物や飲み物で身体を芯から冷やしているのに、湯船に浸からずシャワーのみで生活している人が多くなります。 \n夏なのに足がつる、ぎっくり腰になる、冷えが酷いなど、ホットストーンは冬の寒い時期だけでなく夏の暑い時期にも活躍します。 \nご一緒に、東洋医学の豆知識とホットストーン施術を学んでみませんか？ \n☆ホットストーンセラピー(初級～中級編) \n日にち…8月23日(土)\n時間…am9:00～pm4:00\nところ…筋整流法 殿原クラブ道場\n(山梨県南巨摩郡富士川町最勝寺1538)\n参加費…30000円(受講証･昼食込)\n最少催行人数…3名\n※すでに最少催行人数に達しております\n･甲府駅から送迎が必要な場合や、宿泊先が必要な場合は ご案内致します
URL:https://kenbiki.jp/membersevents/event/yamanashi0823/
LOCATION:筋整流法 殿原クラブ道場\, 山梨県\, 南巨摩郡富士川町最勝寺1538\, Japan
CATEGORIES:勉強会
END:VEVENT
BEGIN:VEVENT
DTSTART;TZID=Asia/Tokyo:20250817T100000
DTEND;TZID=Asia/Tokyo:20250817T120000
DTSTAMP:20260424T080458
CREATED:20250806T015428Z
LAST-MODIFIED:20250806T015428Z
UID:287-1755424800-1755432000@kenbiki.jp
SUMMARY:【東京】8月東京勉強会
DESCRIPTION:2025年8月17日(日)　10:00AM – 12:00PM　参加費：￥5\,000 \nテーマ \n1.絞扼性神経障害による痛み \n2.標準施術 \n3.骨盤調整（復習）
URL:https://kenbiki.jp/membersevents/event/%e3%80%90%e6%9d%b1%e4%ba%ac%e3%80%918%e6%9c%88%e6%9d%b1%e4%ba%ac%e5%8b%89%e5%bc%b7%e4%bc%9a/
LOCATION:五反田道場\, 品川区大崎4-2-2\, 東京都\, Japan
CATEGORIES:勉強会
END:VEVENT
BEGIN:VEVENT
DTSTART;TZID=Asia/Tokyo:20250720T130000
DTEND;TZID=Asia/Tokyo:20250720T170000
DTSTAMP:20260424T080458
CREATED:20250626T064723Z
LAST-MODIFIED:20250626T064812Z
UID:225-1753016400-1753030800@kenbiki.jp
SUMMARY:【埼玉】施術をする・受ける勉強会
DESCRIPTION:施術をすることと受けることから相互にフィードバックしてまなぶ勉強会です。
URL:https://kenbiki.jp/membersevents/event/%e3%80%90%e5%9f%bc%e7%8e%89%e3%80%91%e6%96%bd%e8%a1%93%e3%82%92%e3%81%99%e3%82%8b%e3%83%bb%e5%8f%97%e3%81%91%e3%82%8b%e5%8b%89%e5%bc%b7%e4%bc%9a/
LOCATION:本庄はにぽんプラザ\, 本庄市銀座1-1\, 埼玉県\, Japan
CATEGORIES:勉強会
END:VEVENT
BEGIN:VEVENT
DTSTART;TZID=Asia/Tokyo:20250720T100000
DTEND;TZID=Asia/Tokyo:20250720T120000
DTSTAMP:20260424T080458
CREATED:20250703T010714Z
LAST-MODIFIED:20250703T010714Z
UID:241-1753005600-1753012800@kenbiki.jp
SUMMARY:【東京】7月東京勉強会
DESCRIPTION:テーマ\n1．腰の中心部の痛み\n2．難聴・耳鳴り等、耳疾患の調整法補足\n3．顎関節症の復習
URL:https://kenbiki.jp/membersevents/event/tokyo0720/
LOCATION:五反田道場\, 品川区大崎4-2-2\, 東京都\, Japan
CATEGORIES:勉強会
END:VEVENT
END:VCALENDAR