BEGIN:VCALENDAR
VERSION:2.0
PRODID:-//腱引き師会イベント - ECPv6.13.2.1//NONSGML v1.0//EN
CALSCALE:GREGORIAN
METHOD:PUBLISH
X-WR-CALNAME:腱引き師会イベント
X-ORIGINAL-URL:https://kenbiki.jp/membersevents
X-WR-CALDESC:腱引き師会イベント のイベント
REFRESH-INTERVAL;VALUE=DURATION:PT1H
X-Robots-Tag:noindex
X-PUBLISHED-TTL:PT1H
BEGIN:VTIMEZONE
TZID:Asia/Tokyo
BEGIN:STANDARD
TZOFFSETFROM:+0900
TZOFFSETTO:+0900
TZNAME:JST
DTSTART:20250101T000000
END:STANDARD
END:VTIMEZONE
BEGIN:VEVENT
DTSTART;TZID=Asia/Tokyo:20251223T130000
DTEND;TZID=Asia/Tokyo:20251223T150000
DTSTAMP:20260424T061730
CREATED:20251201T022227Z
LAST-MODIFIED:20251201T022227Z
UID:435-1766494800-1766502000@kenbiki.jp
SUMMARY:【新宿】部位別施術研究会
DESCRIPTION:新宿部位別施術研究会開催のお知らせ。 \n「新宿部位別施術研究会」を下記の通り開催致します。今回の課題は「肩」です。ご承知の如く肩の不具合症例は多岐にわたります。つきましては参加者各々が、現在の肩に対する課題を提出していただきたく、よろしくお願い致します。提出は12月19日までにEメールもしくは研究会LINEにて菅野までお願い致します。 \nちなみに、前回勉強しました腰や大腿部周りの痛みについて、〇〇膜や〇〇筋の調整等を行ったところ、かなりの成果がみられたと、4人の道場主から喜びの感想をいただきました。各部位の勉強は広範囲ですが、ひとつずつでも自分のものにし、お客様の改善のお手伝いが出来れば幸いですね。 \n日時 : 12月23日　午後1時〜3時迄 \n場所 : 新宿しま整体院 \n参加資格 : 腱引き師以上 \n参加費 : 1000円　(多数の場合場所を変更して、場所代を頭割りにします) \n持ち物 : 会員証 \n申し込み締め切り : 12月19日(金) \n問い合わせ、申し込みはこちらから。\n菅野陽介\nyousuke-kan@ezweb.ne.jp \n前回参加の方は研究会LINEにお願いいたします。
URL:https://kenbiki.jp/membersevents/event/%e3%80%90%e6%96%b0%e5%ae%bf%e3%80%91%e9%83%a8%e4%bd%8d%e5%88%a5%e6%96%bd%e8%a1%93%e7%a0%94%e7%a9%b6%e4%bc%9a-2/
LOCATION:新宿しま整体院\, 4-3-12\, 新宿区新宿\, 東京都\, 160-0022
CATEGORIES:勉強会
END:VEVENT
BEGIN:VEVENT
DTSTART;TZID=Asia/Tokyo:20260118T100000
DTEND;TZID=Asia/Tokyo:20260118T120000
DTSTAMP:20260424T061730
CREATED:20260105T021643Z
LAST-MODIFIED:20260105T021643Z
UID:449-1768730400-1768737600@kenbiki.jp
SUMMARY:東京勉強会
DESCRIPTION:テーマ \n1.筋反射（腱紡錘と筋紡錘） \n2.しまりの位置と関節面の合わせ方
URL:https://kenbiki.jp/membersevents/event/%e6%9d%b1%e4%ba%ac%e5%8b%89%e5%bc%b7%e4%bc%9a/
LOCATION:五反田道場\, 品川区大崎4-2-2\, 東京都\, Japan
CATEGORIES:勉強会
END:VEVENT
BEGIN:VEVENT
DTSTART;TZID=Asia/Tokyo:20260127T130000
DTEND;TZID=Asia/Tokyo:20260127T150000
DTSTAMP:20260424T061730
CREATED:20260106T050337Z
LAST-MODIFIED:20260106T050337Z
UID:451-1769518800-1769526000@kenbiki.jp
SUMMARY:【新宿】部位別施術研究会
DESCRIPTION:「新宿部位別施術研究会」を下記の通り開催致します。\n今回の課題は「首」です。\n腱引きのデータでは腰、肩、に次いで3番目に主訴が多い箇所です。\n神経や細かな筋肉も多く頭部に続く微妙な箇所ですので施術では細心の\n注意が必要です。\n短時間ではありますがしっかりと意見を出し合い、勉強して行きましょう。 \n前回の「肩」では基本的な事柄を再認識出来て良かった、等の施術に対する\n普段見過ごしがちなところの見直しもしっかりと出来ました。\n今回も宜しくご参集下さい。各自の課題は、前回参加の方はLINEの方へ提出\nいただき、新規参加の方は下記メールアドレスへ提出下さい。 \n日時　:　1月27日（火）　13時～15時\n\n場所　：　新宿しま整体院\n\n参加資格　：　腱引き師以上\n\n参加費　：　千円＊お試し価格（多数の場合、場所を変更し場所代は頭割りします）\n\n持ち物　：　会員証\n\n申し込み締め切り　：　1月23日（金）\n\n問い合わせ・申し込みはこちらから：菅野陽介　Eメール　yousuke-kan@ezweb.ne.jp
URL:https://kenbiki.jp/membersevents/event/%e3%80%90%e6%96%b0%e5%ae%bf%e3%80%91%e9%83%a8%e4%bd%8d%e5%88%a5%e6%96%bd%e8%a1%93%e7%a0%94%e7%a9%b6%e4%bc%9a-3/
LOCATION:新宿しま整体院\, 4-3-12\, 新宿区新宿\, 東京都\, 160-0022
CATEGORIES:勉強会
END:VEVENT
BEGIN:VEVENT
DTSTART;TZID=Asia/Tokyo:20260207T120000
DTEND;TZID=Asia/Tokyo:20260208T150000
DTSTAMP:20260424T061730
CREATED:20260114T012752Z
LAST-MODIFIED:20260114T012752Z
UID:457-1770465600-1770562800@kenbiki.jp
SUMMARY:第１６回　北日本腱引き師交流会
DESCRIPTION:【日時】\n2月7日（土）12:00～16:00\n2月8日（日）10:00～15:00\n【会場】\n東北支部道場（仙台ボクシングジム内）\n仙台市青葉区五橋2-5-5（南北線五橋駅から徒歩5分）\n【費用】\n5.000円（2日の昼食付）\n※当日徴収します。\n【講師】\n1）佐藤春基賢人\n2）三本菅章郎伝承者\n【内容】\n1）佐藤春基賢人\n「五十肩の施術法」\n2） 三本菅章郎伝承者\n「股関節の解剖学」\n「股関節の施術法」\n【対象】\n腱引き師\n【申し込み法】\n参加希望者、お問い合わせは三本菅に連絡してください。\n連絡先080-6046-1067\n【申し込み締め切り】\n1月23日（月）12:00\n※参加者は色鉛筆を持参してください。\n※1日の講習終了後、懇親会を開催します。\n※宿泊は各自で予約してください。
URL:https://kenbiki.jp/membersevents/event/%e7%ac%ac%ef%bc%91%ef%bc%96%e5%9b%9e%e3%80%80%e5%8c%97%e6%97%a5%e6%9c%ac%e8%85%b1%e5%bc%95%e3%81%8d%e5%b8%ab%e4%ba%a4%e6%b5%81%e4%bc%9a/
LOCATION:東北支部道場（仙台ボクシングジム内）\, 2-5-5\, 仙台市青葉区五橋\, 宮城県\, 980-0022\, Japan
CATEGORIES:勉強会
END:VEVENT
BEGIN:VEVENT
DTSTART;TZID=Asia/Tokyo:20260215T100000
DTEND;TZID=Asia/Tokyo:20260215T120000
DTSTAMP:20260424T061730
CREATED:20260202T045737Z
LAST-MODIFIED:20260202T045737Z
UID:466-1771149600-1771156800@kenbiki.jp
SUMMARY:東京勉強会
DESCRIPTION:テーマ \n1.目の奥の痛み：蝶形骨調整 \n2.前回資料の使い方（腰痛編） \n・昼食代込み
URL:https://kenbiki.jp/membersevents/event/%e6%9d%b1%e4%ba%ac%e5%8b%89%e5%bc%b7%e4%bc%9a-2/
LOCATION:五反田道場\, 品川区大崎4-2-2\, 東京都\, Japan
CATEGORIES:勉強会
END:VEVENT
BEGIN:VEVENT
DTSTART;TZID=Asia/Tokyo:20260217T130000
DTEND;TZID=Asia/Tokyo:20260217T150000
DTSTAMP:20260424T061730
CREATED:20260205T020645Z
LAST-MODIFIED:20260206T052807Z
UID:468-1771333200-1771340400@kenbiki.jp
SUMMARY:【新宿】部位別施術研究会
DESCRIPTION:「新宿部位別施術研究会」を下記の通り開催致します。\n\n今回の課題は「股関節」です。ここは胴体と脚を繋ぐ\n体の中でも最も大きな関節です。私たちが歩く、走る、\n座るといった日常の動作をスムースに行うために、非常\nに重要な役割を担っています。それに関する基本的な事\nを、しっかりと学習しあって行きたいと思います。\n\n\n前回の「首」では、これに関する基本施術との具体的な\n関連性と重要なポイントの研究等、お互いに腑に落ちた\n学習が出来たと思います。\n参加者も月毎に増えており、料金もお試し期間が終わり\n今回から3千円となりますので、宜しくお願い致します。\n\n\n日時　:  2月17日(火)  午後1時〜午後3時迄\n会場　:  新宿しま整体院\n参加資格　:  腱引き師以上\n参加費　:  3千円\n持ち物　:  会員証\n申し込み締め切り　:  2月10日(火)\n問い合わせ・申し込みはこちらから　:  菅野陽介　Eメール　yousuke-kan@ezweb.ne.jp
URL:https://kenbiki.jp/membersevents/event/%e3%80%90%e6%96%b0%e5%ae%bf%e3%80%91%e9%83%a8%e4%bd%8d%e5%88%a5%e6%96%bd%e8%a1%93%e7%a0%94%e7%a9%b6%e4%bc%9a-4/
LOCATION:新宿しま整体院\, 4-3-12\, 新宿区新宿\, 東京都\, 160-0022
CATEGORIES:勉強会
END:VEVENT
BEGIN:VEVENT
DTSTART;TZID=Asia/Tokyo:20260225T090000
DTEND;TZID=Asia/Tokyo:20260225T150000
DTSTAMP:20260424T061730
CREATED:20260115T055925Z
LAST-MODIFIED:20260115T060207Z
UID:459-1772010000-1772031600@kenbiki.jp
SUMMARY:【大分】基本施術向上委員会inひた出張所
DESCRIPTION:午前は小口先生直伝の基本施術と最新の腸もみを伝承する。\n午後は即実践に繋げるべく、徹底した練習を行い、技術の底上げを図る。 \n【日時】2月25日（水）　9時～15時\n【場所】筋整流法　大分ひた腱引き道場\n【参加資格】腱引き師以上\n【参加費】3\,000円（当日集金いたします）\n【持ち物】会員証\n【申し込み締め切り】：2月10日（火） \n問い合わせ・申し込みはこちらから…080-8390-8494（甘田太亮）
URL:https://kenbiki.jp/membersevents/event/%e3%80%90%e5%a4%a7%e5%88%86%e3%80%91%e5%9f%ba%e6%9c%ac%e6%96%bd%e8%a1%93%e5%90%91%e4%b8%8a%e5%a7%94%e5%93%a1%e4%bc%9ain%e3%81%b2%e3%81%9f%e5%87%ba%e5%bc%b5%e6%89%80/
LOCATION:筋整流法　大分ひた腱引き道場\, 下井手町1033-7\, 日田市\, 大分県\, 877-0038\, Japan
CATEGORIES:勉強会
END:VEVENT
BEGIN:VEVENT
DTSTART;TZID=Asia/Tokyo:20260315T100000
DTEND;TZID=Asia/Tokyo:20260315T120000
DTSTAMP:20260424T061730
CREATED:20260304T021237Z
LAST-MODIFIED:20260304T021237Z
UID:482-1773568800-1773576000@kenbiki.jp
SUMMARY:東京勉強会
DESCRIPTION:テーマ \n1.代償運動（総論+上肢帯） \n2.症例研究（膝関節痛の新しい解き方） \n持ち物 \n会員証・メモリー
URL:https://kenbiki.jp/membersevents/event/%e6%9d%b1%e4%ba%ac%e5%8b%89%e5%bc%b7%e4%bc%9a-3/
LOCATION:五反田道場\, 品川区大崎4-2-2\, 東京都\, Japan
CATEGORIES:勉強会
END:VEVENT
BEGIN:VEVENT
DTSTART;TZID=Asia/Tokyo:20260324T130000
DTEND;TZID=Asia/Tokyo:20260324T150000
DTSTAMP:20260424T061730
CREATED:20260226T062213Z
LAST-MODIFIED:20260226T062213Z
UID:474-1774357200-1774364400@kenbiki.jp
SUMMARY:【新宿】部位別施術研究会
DESCRIPTION:今回の課題は「膝」です。\n膝は私たちの体の中で最も大きく、かつ複雑な構造を持つ関節の\nひとつです。\n単に「曲げ伸ばしをする」だけではなく、歩く、走る、ジャンプ\nするといった日常の動きを支える箇所です。\n不具合は、アスリートや加齢の進んだお年寄りの方たちに\nよく見られます。\n今回もその基礎的な事や持ち寄った課題について、意見を出しあい\nしっかりと学習したいと思います。\n\n前回の「股関節」では、全員の課題について、嶋伝承者よりその\n改善についての考え方を学び、お互いの知る改善方法を披露し、\n特に「軸調整」の施術では、考え方に齟齬や誤解があった方もおり、\n再度学び直して軌道修正を行い、目から鱗な感じでした。\n皆さんからの感想も認識を新たにされ、喜びの言葉をいただきました。\n\n【日時】3月24日(火曜日)\n【会場】新宿しま整体院\n【参加資格】腱引き師以上\n【参加費】3千円\n【持ち物】会員証\n【申し込み・問い合わせ】菅野陽介　Eメール　yousuke-kan@ezweb.ne.jp
URL:https://kenbiki.jp/membersevents/event/%e3%80%90%e6%96%b0%e5%ae%bf%e3%80%91%e9%83%a8%e4%bd%8d%e5%88%a5%e6%96%bd%e8%a1%93%e7%a0%94%e7%a9%b6%e4%bc%9a-5/
LOCATION:新宿しま整体院\, 4-3-12\, 新宿区新宿\, 東京都\, 160-0022
CATEGORIES:勉強会
END:VEVENT
BEGIN:VEVENT
DTSTART;TZID=Asia/Tokyo:20260426T100000
DTEND;TZID=Asia/Tokyo:20260426T120000
DTSTAMP:20260424T061730
CREATED:20260401T043304Z
LAST-MODIFIED:20260401T043304Z
UID:502-1777197600-1777204800@kenbiki.jp
SUMMARY:東京勉強会
DESCRIPTION:テーマ \n1.野球肘、リトルリーガーズショルダー（腋窩神経障害） \n2.股関節調整
URL:https://kenbiki.jp/membersevents/event/%e6%9d%b1%e4%ba%ac%e5%8b%89%e5%bc%b7%e4%bc%9a-4/
LOCATION:五反田道場\, 品川区大崎4-2-2\, 東京都\, Japan
CATEGORIES:勉強会
END:VEVENT
BEGIN:VEVENT
DTSTART;TZID=Asia/Tokyo:20260428T130000
DTEND;TZID=Asia/Tokyo:20260428T150000
DTSTAMP:20260424T061730
CREATED:20260330T024022Z
LAST-MODIFIED:20260330T024022Z
UID:499-1777381200-1777388400@kenbiki.jp
SUMMARY:【新宿】部位別施術研究会
DESCRIPTION:四月度「新宿部位別施術研究会」を下記のとり開催致します。\n\n今回は「足関節」です。\nいわゆる「足首」は、私たちが立ったり歩いたりする際に\n非常に重要な役割を果たしています。\n単に足と脚をつなぐだけでなく、複雑な動きを制御する\n高機能なジョイントのような存在です。\nスポーツ選手などによくみられる「捻挫」がよく起こる\n場所でもあり、腱引き師には垂涎の的な箇所でもあります。\n再学習の意味も含めて、課題を出し合い、その改善への\n考え方を、嶋伝承者の元勉強していきたいと思います。\n\n前回の「膝」では、不具合の原因がその部分だけではなく、\n離れた場所の影響も多分にあり、それの改善方法、そこから\nの膝へのかかわりなどの理解の仕方等、納得しながらの実りある\n研究会でした。もう少し考え方や理解をを深めたい方の\n参加をお待ちしております。\n\n【日時】2026年4月28日　13時～15時\n【会場】新宿しま整体院\n【参加資格】腱引き師以上\n【参加費】三千円\n【持ち物】会員証\n【申込締切】4月21日（火）\n【申し込み・問い合わせ】菅野陽介まで　TEL 080‐5670‐3584\n　　　　​​　　　　　　　　Eメール　yousuke-kan@ezweb.ne.jp
URL:https://kenbiki.jp/membersevents/event/%e3%80%90%e6%96%b0%e5%ae%bf%e3%80%91%e9%83%a8%e4%bd%8d%e5%88%a5%e6%96%bd%e8%a1%93%e7%a0%94%e7%a9%b6%e4%bc%9a-6/
LOCATION:新宿しま整体院\, 4-3-12\, 新宿区新宿\, 東京都\, 160-0022
CATEGORIES:勉強会
END:VEVENT
BEGIN:VEVENT
DTSTART;TZID=Asia/Tokyo:20260516T130000
DTEND;TZID=Asia/Tokyo:20260517T160000
DTSTAMP:20260424T061730
CREATED:20260302T013046Z
LAST-MODIFIED:20260302T013046Z
UID:479-1778936400-1779033600@kenbiki.jp
SUMMARY:第2回　北日本腱引き師総会
DESCRIPTION:【開催日程】\n2026年 5月16日(土)13：00～\n　　　　　17日(日)～16：00\n【会場／宿泊】\n一般財団法人宮城県青年会館　「エスポールみやぎ」\n宮城県仙台市宮城野区幸町4-5-1\n※仙台駅－会場間の送迎バスあり\n【参加費】\n〇　2日間参加24.000円　（宿泊費、懇親会費、１７日の昼食代が含まれています）\n〇　どちらか1日のみ参加10.000円　（宿泊費、懇親会費、１７日の昼食代は含まれていません）\n※参加費には、施設使用料・講師料・備品費等が含まれています。\n【募集人数】\n30名\n【申し込み締め切り】\n2026年4月20日(月)\n\n\n【申し込み法】\n申し込みフォームにて申し込み、参加料を振り込んだ時点で申し込み完了となります。\nお申し込みはコチラ…https://forms.gle/urdckBzSrkAGYSN7A\n尚、参加者へのご連絡はグループラインで行います。\n【問い合わせ】\n連絡先 三本菅まで\n080-6046-1067\n5ambon.aki0@gmail.com
URL:https://kenbiki.jp/membersevents/event/%e7%ac%ac2%e5%9b%9e%e3%80%80%e5%8c%97%e6%97%a5%e6%9c%ac%e8%85%b1%e5%bc%95%e3%81%8d%e5%b8%ab%e7%b7%8f%e4%bc%9a/
LOCATION:一般財団法人宮城県青年会館　エスポールみやぎ\, 宮城野区幸町4丁目5番1号\, 仙台市\, 宮城県\, 983-0836\, Japan
CATEGORIES:勉強会
END:VEVENT
BEGIN:VEVENT
DTSTART;TZID=Asia/Tokyo:20260613T130000
DTEND;TZID=Asia/Tokyo:20260614T153000
DTSTAMP:20260424T061730
CREATED:20260403T043244Z
LAST-MODIFIED:20260408T042054Z
UID:504-1781355600-1781451000@kenbiki.jp
SUMMARY:2026夏　草津温泉腱引き交流会
DESCRIPTION:【 2026 夏 草津温泉 腱引き交流会 開催のお知らせ 】 \n全国の腱引き師の仲間が集い、技を磨き、志を分かち合う「草津温泉 交流会」も、おかげさまで今年で3年目を迎えます！ \n​今年も、特別顧問の小口先生、そして伝承者の嶋先生という、私たちの活動の核となるお二人を揃ってお迎えする、この上なく贅沢な機会となりました。 \n​今回のメインは何と言っても、お二人による濃厚な特別講義。 \n最高峰の視点から語られる言葉、そして研ぎ澄まされた技に直接触れられる時間は、まさに「濃ゆい」の一言に尽きます。 \n単なる座学・実技の勉強にとどまらず、仲間同士での切磋琢磨や、日頃の現場で抱える疑問・お悩みをお二人に直接ぶつけ、導きをいただける時間は、代えがたい学びとなるはずです。 \n​さらに、5月に東北で開催される勉強会とも深く連動しており、「片方だけでも十分すぎる内容だが、両方受講することでその教えはさらに立体的に深まる」とお二人からも伺っています。 \n両方参加を希望される方は、東北での気づきを、この草津の地で確かな血肉へとさらに昇華させましょう。 \n​そして、舞台は日本一の湯を誇る草津温泉。 \n私たちが日頃お客様にお伝えしている通り、腱引きの後に温泉で体を温めることは、調整された巡りをさらに加速させ、その効果を最大化させます。 \n草津の絶大な温泉効果と腱引きが共鳴する、心身ともにアップデートされる2日間。 \n​技を研ぎ、湯に癒え、仲間に触れる。\n皆様とこの熱い時間を共有できることを、心より楽しみにしております！ \n​【開催概要】\n☆​とき☆\n2026年6月13日(土) 13:00 ～\n14日(日) 15:30 \n☆​ところ☆\n草津温泉 「ホテル松巳」\n（名湯・湯畑にもほど近い、歴史あるお宿です）\n〒377-1711\n群馬県吾妻郡草津町大字草津19-23\n※草津温泉バスターミナルから徒歩5分 \n☆講義☆\n・小口先生\n「ファシアと腱引き療法」\n～身体観の更新と臨床への応用～\n・嶋先生\n​「運動指導と身体の環境づくり」\n～再施術か、負荷の調整か。一人ひとりに合わせた対応～ \n☆費用☆\n1泊2日…26000円(宿泊・懇親会込)\n1日のみ…各日8000円(講義 他) \n☆お申込み締切☆​ \n5月29日（金）まで \nお申し込みはコチラから…\nhttps://forms.gle/iKtqG3X32GUmpbeJ9 \n 
URL:https://kenbiki.jp/membersevents/event/2026%e5%a4%8f%e3%80%80%e8%8d%89%e6%b4%a5%e6%b8%a9%e6%b3%89%e8%85%b1%e5%bc%95%e3%81%8d%e4%ba%a4%e6%b5%81%e4%bc%9a/
LOCATION:草津温泉道場（ホテル松巳）\, 吾妻郡草津町草津19-23\, 群馬県\, Japan
CATEGORIES:勉強会
END:VEVENT
END:VCALENDAR