BEGIN:VCALENDAR
VERSION:2.0
PRODID:-//腱引き師会イベント - ECPv6.13.2.1//NONSGML v1.0//EN
CALSCALE:GREGORIAN
METHOD:PUBLISH
X-ORIGINAL-URL:https://kenbiki.jp/membersevents
X-WR-CALDESC:腱引き師会イベント のイベント
REFRESH-INTERVAL;VALUE=DURATION:PT1H
X-Robots-Tag:noindex
X-PUBLISHED-TTL:PT1H
BEGIN:VTIMEZONE
TZID:Asia/Tokyo
BEGIN:STANDARD
TZOFFSETFROM:+0900
TZOFFSETTO:+0900
TZNAME:JST
DTSTART:20260101T000000
END:STANDARD
END:VTIMEZONE
BEGIN:VEVENT
DTSTART;TZID=Asia/Tokyo:20260426T100000
DTEND;TZID=Asia/Tokyo:20260426T120000
DTSTAMP:20260424T043822
CREATED:20260401T043304Z
LAST-MODIFIED:20260401T043304Z
UID:502-1777197600-1777204800@kenbiki.jp
SUMMARY:東京勉強会
DESCRIPTION:テーマ \n1.野球肘、リトルリーガーズショルダー（腋窩神経障害） \n2.股関節調整
URL:https://kenbiki.jp/membersevents/event/%e6%9d%b1%e4%ba%ac%e5%8b%89%e5%bc%b7%e4%bc%9a-4/
LOCATION:五反田道場\, 品川区大崎4-2-2\, 東京都\, Japan
CATEGORIES:勉強会
END:VEVENT
BEGIN:VEVENT
DTSTART;TZID=Asia/Tokyo:20260428T130000
DTEND;TZID=Asia/Tokyo:20260428T150000
DTSTAMP:20260424T043822
CREATED:20260330T024022Z
LAST-MODIFIED:20260330T024022Z
UID:499-1777381200-1777388400@kenbiki.jp
SUMMARY:【新宿】部位別施術研究会
DESCRIPTION:四月度「新宿部位別施術研究会」を下記のとり開催致します。\n\n今回は「足関節」です。\nいわゆる「足首」は、私たちが立ったり歩いたりする際に\n非常に重要な役割を果たしています。\n単に足と脚をつなぐだけでなく、複雑な動きを制御する\n高機能なジョイントのような存在です。\nスポーツ選手などによくみられる「捻挫」がよく起こる\n場所でもあり、腱引き師には垂涎の的な箇所でもあります。\n再学習の意味も含めて、課題を出し合い、その改善への\n考え方を、嶋伝承者の元勉強していきたいと思います。\n\n前回の「膝」では、不具合の原因がその部分だけではなく、\n離れた場所の影響も多分にあり、それの改善方法、そこから\nの膝へのかかわりなどの理解の仕方等、納得しながらの実りある\n研究会でした。もう少し考え方や理解をを深めたい方の\n参加をお待ちしております。\n\n【日時】2026年4月28日　13時～15時\n【会場】新宿しま整体院\n【参加資格】腱引き師以上\n【参加費】三千円\n【持ち物】会員証\n【申込締切】4月21日（火）\n【申し込み・問い合わせ】菅野陽介まで　TEL 080‐5670‐3584\n　　　　​​　　　　　　　　Eメール　yousuke-kan@ezweb.ne.jp
URL:https://kenbiki.jp/membersevents/event/%e3%80%90%e6%96%b0%e5%ae%bf%e3%80%91%e9%83%a8%e4%bd%8d%e5%88%a5%e6%96%bd%e8%a1%93%e7%a0%94%e7%a9%b6%e4%bc%9a-6/
LOCATION:新宿しま整体院\, 4-3-12\, 新宿区新宿\, 東京都\, 160-0022
CATEGORIES:勉強会
END:VEVENT
BEGIN:VEVENT
DTSTART;TZID=Asia/Tokyo:20260516T130000
DTEND;TZID=Asia/Tokyo:20260517T160000
DTSTAMP:20260424T043822
CREATED:20260302T013046Z
LAST-MODIFIED:20260302T013046Z
UID:479-1778936400-1779033600@kenbiki.jp
SUMMARY:第2回　北日本腱引き師総会
DESCRIPTION:【開催日程】\n2026年 5月16日(土)13：00～\n　　　　　17日(日)～16：00\n【会場／宿泊】\n一般財団法人宮城県青年会館　「エスポールみやぎ」\n宮城県仙台市宮城野区幸町4-5-1\n※仙台駅－会場間の送迎バスあり\n【参加費】\n〇　2日間参加24.000円　（宿泊費、懇親会費、１７日の昼食代が含まれています）\n〇　どちらか1日のみ参加10.000円　（宿泊費、懇親会費、１７日の昼食代は含まれていません）\n※参加費には、施設使用料・講師料・備品費等が含まれています。\n【募集人数】\n30名\n【申し込み締め切り】\n2026年4月20日(月)\n\n\n【申し込み法】\n申し込みフォームにて申し込み、参加料を振り込んだ時点で申し込み完了となります。\nお申し込みはコチラ…https://forms.gle/urdckBzSrkAGYSN7A\n尚、参加者へのご連絡はグループラインで行います。\n【問い合わせ】\n連絡先 三本菅まで\n080-6046-1067\n5ambon.aki0@gmail.com
URL:https://kenbiki.jp/membersevents/event/%e7%ac%ac2%e5%9b%9e%e3%80%80%e5%8c%97%e6%97%a5%e6%9c%ac%e8%85%b1%e5%bc%95%e3%81%8d%e5%b8%ab%e7%b7%8f%e4%bc%9a/
LOCATION:一般財団法人宮城県青年会館　エスポールみやぎ\, 宮城野区幸町4丁目5番1号\, 仙台市\, 宮城県\, 983-0836\, Japan
CATEGORIES:勉強会
END:VEVENT
BEGIN:VEVENT
DTSTART;TZID=Asia/Tokyo:20260613T130000
DTEND;TZID=Asia/Tokyo:20260614T153000
DTSTAMP:20260424T043822
CREATED:20260403T043244Z
LAST-MODIFIED:20260408T042054Z
UID:504-1781355600-1781451000@kenbiki.jp
SUMMARY:2026夏　草津温泉腱引き交流会
DESCRIPTION:【 2026 夏 草津温泉 腱引き交流会 開催のお知らせ 】 \n全国の腱引き師の仲間が集い、技を磨き、志を分かち合う「草津温泉 交流会」も、おかげさまで今年で3年目を迎えます！ \n​今年も、特別顧問の小口先生、そして伝承者の嶋先生という、私たちの活動の核となるお二人を揃ってお迎えする、この上なく贅沢な機会となりました。 \n​今回のメインは何と言っても、お二人による濃厚な特別講義。 \n最高峰の視点から語られる言葉、そして研ぎ澄まされた技に直接触れられる時間は、まさに「濃ゆい」の一言に尽きます。 \n単なる座学・実技の勉強にとどまらず、仲間同士での切磋琢磨や、日頃の現場で抱える疑問・お悩みをお二人に直接ぶつけ、導きをいただける時間は、代えがたい学びとなるはずです。 \n​さらに、5月に東北で開催される勉強会とも深く連動しており、「片方だけでも十分すぎる内容だが、両方受講することでその教えはさらに立体的に深まる」とお二人からも伺っています。 \n両方参加を希望される方は、東北での気づきを、この草津の地で確かな血肉へとさらに昇華させましょう。 \n​そして、舞台は日本一の湯を誇る草津温泉。 \n私たちが日頃お客様にお伝えしている通り、腱引きの後に温泉で体を温めることは、調整された巡りをさらに加速させ、その効果を最大化させます。 \n草津の絶大な温泉効果と腱引きが共鳴する、心身ともにアップデートされる2日間。 \n​技を研ぎ、湯に癒え、仲間に触れる。\n皆様とこの熱い時間を共有できることを、心より楽しみにしております！ \n​【開催概要】\n☆​とき☆\n2026年6月13日(土) 13:00 ～\n14日(日) 15:30 \n☆​ところ☆\n草津温泉 「ホテル松巳」\n（名湯・湯畑にもほど近い、歴史あるお宿です）\n〒377-1711\n群馬県吾妻郡草津町大字草津19-23\n※草津温泉バスターミナルから徒歩5分 \n☆講義☆\n・小口先生\n「ファシアと腱引き療法」\n～身体観の更新と臨床への応用～\n・嶋先生\n​「運動指導と身体の環境づくり」\n～再施術か、負荷の調整か。一人ひとりに合わせた対応～ \n☆費用☆\n1泊2日…26000円(宿泊・懇親会込)\n1日のみ…各日8000円(講義 他) \n☆お申込み締切☆​ \n5月29日（金）まで \nお申し込みはコチラから…\nhttps://forms.gle/iKtqG3X32GUmpbeJ9 \n 
URL:https://kenbiki.jp/membersevents/event/2026%e5%a4%8f%e3%80%80%e8%8d%89%e6%b4%a5%e6%b8%a9%e6%b3%89%e8%85%b1%e5%bc%95%e3%81%8d%e4%ba%a4%e6%b5%81%e4%bc%9a/
LOCATION:草津温泉道場（ホテル松巳）\, 吾妻郡草津町草津19-23\, 群馬県\, Japan
CATEGORIES:勉強会
END:VEVENT
END:VCALENDAR