BEGIN:VCALENDAR
VERSION:2.0
PRODID:-//腱引き師会イベント - ECPv6.13.2.1//NONSGML v1.0//EN
CALSCALE:GREGORIAN
METHOD:PUBLISH
X-ORIGINAL-URL:https://kenbiki.jp/membersevents
X-WR-CALDESC:腱引き師会イベント のイベント
REFRESH-INTERVAL;VALUE=DURATION:PT1H
X-Robots-Tag:noindex
X-PUBLISHED-TTL:PT1H
BEGIN:VTIMEZONE
TZID:Asia/Tokyo
BEGIN:STANDARD
TZOFFSETFROM:+0900
TZOFFSETTO:+0900
TZNAME:JST
DTSTART:20250101T000000
END:STANDARD
END:VTIMEZONE
BEGIN:VEVENT
DTSTART;TZID=Asia/Tokyo:20251219T100000
DTEND;TZID=Asia/Tokyo:20251219T160000
DTSTAMP:20260424T024311
CREATED:20251208T014607Z
LAST-MODIFIED:20251208T014607Z
UID:437-1766138400-1766160000@kenbiki.jp
SUMMARY:【大分】女性のためのからだケア（初級・中級）復習会
DESCRIPTION:日時：2025年12月19日（金）10：00～16：00 \n場所：癒活整体　べっぷ湯けむり道場 \n会費：3\,000円 \n持ち物：会員証 \n※新しい《女性のためのからだケア（初級・中級）》を受講した方限定
URL:https://kenbiki.jp/membersevents/event/%e3%80%90%e5%a4%a7%e5%88%86%e3%80%91%e5%a5%b3%e6%80%a7%e3%81%ae%e3%81%9f%e3%82%81%e3%81%ae%e3%81%8b%e3%82%89%e3%81%a0%e3%82%b1%e3%82%a2%ef%bc%88%e5%88%9d%e7%b4%9a%e3%83%bb%e4%b8%ad%e7%b4%9a%ef%bc%89/
LOCATION:癒活整体　べっぷ湯けむり道場\, 幸町8-7\, 別府市\, 大分県\, 874-0907
CATEGORIES:勉強会
END:VEVENT
END:VCALENDAR