BEGIN:VCALENDAR
VERSION:2.0
PRODID:-//腱引き師会イベント - ECPv6.13.2.1//NONSGML v1.0//EN
CALSCALE:GREGORIAN
METHOD:PUBLISH
X-WR-CALNAME:腱引き師会イベント
X-ORIGINAL-URL:https://kenbiki.jp/membersevents
X-WR-CALDESC:腱引き師会イベント のイベント
REFRESH-INTERVAL;VALUE=DURATION:PT1H
X-Robots-Tag:noindex
X-PUBLISHED-TTL:PT1H
BEGIN:VTIMEZONE
TZID:Asia/Tokyo
BEGIN:STANDARD
TZOFFSETFROM:+0900
TZOFFSETTO:+0900
TZNAME:JST
DTSTART:20260101T000000
END:STANDARD
END:VTIMEZONE
BEGIN:VEVENT
DTSTART;TZID=Asia/Tokyo:20260315T100000
DTEND;TZID=Asia/Tokyo:20260315T120000
DTSTAMP:20260423T215138
CREATED:20260304T021237Z
LAST-MODIFIED:20260304T021237Z
UID:482-1773568800-1773576000@kenbiki.jp
SUMMARY:東京勉強会
DESCRIPTION:テーマ \n1.代償運動（総論+上肢帯） \n2.症例研究（膝関節痛の新しい解き方） \n持ち物 \n会員証・メモリー
URL:https://kenbiki.jp/membersevents/event/%e6%9d%b1%e4%ba%ac%e5%8b%89%e5%bc%b7%e4%bc%9a-3/
LOCATION:五反田道場\, 品川区大崎4-2-2\, 東京都\, Japan
CATEGORIES:勉強会
END:VEVENT
END:VCALENDAR