BEGIN:VCALENDAR
VERSION:2.0
PRODID:-//腱引き師会イベント - ECPv6.13.2.1//NONSGML v1.0//EN
CALSCALE:GREGORIAN
METHOD:PUBLISH
X-WR-CALNAME:腱引き師会イベント
X-ORIGINAL-URL:https://kenbiki.jp/membersevents
X-WR-CALDESC:腱引き師会イベント のイベント
REFRESH-INTERVAL;VALUE=DURATION:PT1H
X-Robots-Tag:noindex
X-PUBLISHED-TTL:PT1H
BEGIN:VTIMEZONE
TZID:Asia/Tokyo
BEGIN:STANDARD
TZOFFSETFROM:+0900
TZOFFSETTO:+0900
TZNAME:JST
DTSTART:20260101T000000
END:STANDARD
END:VTIMEZONE
BEGIN:VEVENT
DTSTART;VALUE=DATE:20260305
DTEND;VALUE=DATE:20260311
DTSTAMP:20260424T043107
CREATED:20251219T030109Z
LAST-MODIFIED:20251219T030109Z
UID:446-1772668800-1773187199@kenbiki.jp
SUMMARY:第44回JSBA全日本スノーボード選手権大会 KENBIKI CUP
DESCRIPTION:筋整流法協会がメインスポンサーとして開催される「第44回JSBA全日本スノーボード選手権大会 KENBIKI CUP」 \n■日程\n2026年3月\n5日（木）開会式　ウェルカムパーティ　スノーボードクロス（プロアマ戦）※施術なし\n6日（金）スノーボードクロス（SX)\n7日（土）デュアル・スラローム（DU)\n8日（日）ジャイアント・スラローム（GS)\n9日（月）スロープスタイル（SS)\n10日（火）ストレートジャンプ（SJ)※施術なし
URL:https://kenbiki.jp/membersevents/event/%e7%ac%ac44%e5%9b%9ejsba%e5%85%a8%e6%97%a5%e6%9c%ac%e3%82%b9%e3%83%8e%e3%83%bc%e3%83%9c%e3%83%bc%e3%83%89%e9%81%b8%e6%89%8b%e6%a8%a9%e5%a4%a7%e4%bc%9a-kenbiki-cup/
LOCATION:福島県南会津町会津高原たかつえスキー場\, 南会津町高杖原535\, 南会津郡\, 福島県\, Japan
CATEGORIES:他団体共催イベント
END:VEVENT
END:VCALENDAR