BEGIN:VCALENDAR
VERSION:2.0
PRODID:-//腱引き師会イベント - ECPv6.13.2.1//NONSGML v1.0//EN
CALSCALE:GREGORIAN
METHOD:PUBLISH
X-ORIGINAL-URL:https://kenbiki.jp/membersevents
X-WR-CALDESC:腱引き師会イベント のイベント
REFRESH-INTERVAL;VALUE=DURATION:PT1H
X-Robots-Tag:noindex
X-PUBLISHED-TTL:PT1H
BEGIN:VTIMEZONE
TZID:Asia/Tokyo
BEGIN:STANDARD
TZOFFSETFROM:+0900
TZOFFSETTO:+0900
TZNAME:JST
DTSTART:20260101T000000
END:STANDARD
END:VTIMEZONE
BEGIN:VEVENT
DTSTART;TZID=Asia/Tokyo:20260523T130000
DTEND;TZID=Asia/Tokyo:20260524T160000
DTSTAMP:20260424T064439
CREATED:20260324T075437Z
LAST-MODIFIED:20260324T075538Z
UID:494-1779541200-1779638400@kenbiki.jp
SUMMARY:【大阪】小口昭宣「特別伝授会～人体探究の深化と継承のために～」
DESCRIPTION:【開催趣旨】\n本伝授会は、これまで体系化されてきた知識・技術のみならず、その根底にある「身体の見方」「触れるという行為の本質」を、直接体感しながら学ぶ場として開催されます。\n今回の伝授は、単なる技術講習ではありません。腱引き療法の本質に触れ、臨床の在り方そのものを問い直す機会となるでしょう。\n\n\n【伝授内容】\n■ 頚部における新たな調整技術\n頚部の構造と連動性を踏まえた調整法により、全身への影響を見据えたアプローチを伝授します。\n■ 上肢（腕・前腕）における機能再構築手技\n前腕の捻じれや筋腱バランスの再構築を中心に、動作制限の解放へと導く手技を実践的に学びます。\n■ 手指における精密調整技術\n繊細な運動制御に関わる手指に対し、感覚と構造の双方からアプローチする新手技を伝授します。\n■ 腱引き療法とファシア理論の融合\n筋・腱・腱膜・ファシアを一体として捉え、従来の枠組みを超えた新たな理解と応用法を提示します。\n【本伝授会で得られるもの】\n• 伝承者小口の「身体観」の本質理解\n• 手を通してしか得られない“感覚”の習得\n• 観察・触診・調整を一体化した診断力の向上\n• 臨床現場における判断基準の再構築\nそれは単なる知識ではなく、「身体をどう捉え、どう触れるか」という根源的な力の獲得です。\n\n\n【開催概要】\n\n大阪会場：5/23（土）・24（日）13:00～翌16:00\n大阪市立青少年センターKOKO PLAZA\n〒533-0033　大阪市東淀川区東中島1-13-13\nTEL:06-6370-5421 \n\n\n\n\n定員：限定10名（催行最小人員4名）\n費用：10万円（宿泊費込み、食事代は除く）\n\n主催：（株）腱引き療法研究所\n\n\n【お申込み】\nhttps://x.gd/2rek16
URL:https://kenbiki.jp/membersevents/event/osaka0523-24/
LOCATION:大阪市立青少年センターKOKO PLAZA\, 大阪市東淀川区東中島1-13-13\, 533-0033
CATEGORIES:伝授会
END:VEVENT
BEGIN:VEVENT
DTSTART;TZID=Asia/Tokyo:20260530T130000
DTEND;TZID=Asia/Tokyo:20260531T160000
DTSTAMP:20260424T064439
CREATED:20260324T075802Z
LAST-MODIFIED:20260324T075914Z
UID:496-1780146000-1780243200@kenbiki.jp
SUMMARY:【東京】小口昭宣「特別伝授会～人体探究の深化と継承のために～」
DESCRIPTION:【開催趣旨】\n本伝授会は、これまで体系化されてきた知識・技術のみならず、その根底にある「身体の見方」「触れるという行為の本質」を、直接体感しながら学ぶ場として開催されます。\n今回の伝授は、単なる技術講習ではありません。腱引き療法の本質に触れ、臨床の在り方そのものを問い直す機会となるでしょう。 \n【伝授内容】\n■ 頚部における新たな調整技術\n頚部の構造と連動性を踏まえた調整法により、全身への影響を見据えたアプローチを伝授します。\n■ 上肢（腕・前腕）における機能再構築手技\n前腕の捻じれや筋腱バランスの再構築を中心に、動作制限の解放へと導く手技を実践的に学びます。\n■ 手指における精密調整技術\n繊細な運動制御に関わる手指に対し、感覚と構造の双方からアプローチする新手技を伝授します。\n■ 腱引き療法とファシア理論の融合\n筋・腱・腱膜・ファシアを一体として捉え、従来の枠組みを超えた新たな理解と応用法を提示します。\n【本伝授会で得られるもの】\n• 伝承者小口の「身体観」の本質理解\n• 手を通してしか得られない“感覚”の習得\n• 観察・触診・調整を一体化した診断力の向上\n• 臨床現場における判断基準の再構築\nそれは単なる知識ではなく、「身体をどう捉え、どう触れるか」という根源的な力の獲得です。 \n【開催概要】\n東京会場：5/30（土）・31（日）13:00～～翌16:00\n東京セントラルユースホステル\n〒162-0823 東京都新宿区神楽河岸1-1\nセントラルプラザ18階\nTEL:03-3235-1107 \n\n定員：限定10名（催行最小人員4名）\n費用：10万円（宿泊費込み、食事代は除く）\n\n主催：（株）腱引き療法研究所\n\n\n【お申込み】\nhttps://x.gd/2rek16
URL:https://kenbiki.jp/membersevents/event/tokyo0530-31/
LOCATION:東京セントラルユースホステル\, 東京都新宿区神楽河岸1-1\, 162-0823
CATEGORIES:伝授会
END:VEVENT
BEGIN:VEVENT
DTSTART;TZID=Asia/Tokyo:20260613T130000
DTEND;TZID=Asia/Tokyo:20260614T153000
DTSTAMP:20260424T064439
CREATED:20260403T043244Z
LAST-MODIFIED:20260408T042054Z
UID:504-1781355600-1781451000@kenbiki.jp
SUMMARY:2026夏　草津温泉腱引き交流会
DESCRIPTION:【 2026 夏 草津温泉 腱引き交流会 開催のお知らせ 】 \n全国の腱引き師の仲間が集い、技を磨き、志を分かち合う「草津温泉 交流会」も、おかげさまで今年で3年目を迎えます！ \n​今年も、特別顧問の小口先生、そして伝承者の嶋先生という、私たちの活動の核となるお二人を揃ってお迎えする、この上なく贅沢な機会となりました。 \n​今回のメインは何と言っても、お二人による濃厚な特別講義。 \n最高峰の視点から語られる言葉、そして研ぎ澄まされた技に直接触れられる時間は、まさに「濃ゆい」の一言に尽きます。 \n単なる座学・実技の勉強にとどまらず、仲間同士での切磋琢磨や、日頃の現場で抱える疑問・お悩みをお二人に直接ぶつけ、導きをいただける時間は、代えがたい学びとなるはずです。 \n​さらに、5月に東北で開催される勉強会とも深く連動しており、「片方だけでも十分すぎる内容だが、両方受講することでその教えはさらに立体的に深まる」とお二人からも伺っています。 \n両方参加を希望される方は、東北での気づきを、この草津の地で確かな血肉へとさらに昇華させましょう。 \n​そして、舞台は日本一の湯を誇る草津温泉。 \n私たちが日頃お客様にお伝えしている通り、腱引きの後に温泉で体を温めることは、調整された巡りをさらに加速させ、その効果を最大化させます。 \n草津の絶大な温泉効果と腱引きが共鳴する、心身ともにアップデートされる2日間。 \n​技を研ぎ、湯に癒え、仲間に触れる。\n皆様とこの熱い時間を共有できることを、心より楽しみにしております！ \n​【開催概要】\n☆​とき☆\n2026年6月13日(土) 13:00 ～\n14日(日) 15:30 \n☆​ところ☆\n草津温泉 「ホテル松巳」\n（名湯・湯畑にもほど近い、歴史あるお宿です）\n〒377-1711\n群馬県吾妻郡草津町大字草津19-23\n※草津温泉バスターミナルから徒歩5分 \n☆講義☆\n・小口先生\n「ファシアと腱引き療法」\n～身体観の更新と臨床への応用～\n・嶋先生\n​「運動指導と身体の環境づくり」\n～再施術か、負荷の調整か。一人ひとりに合わせた対応～ \n☆費用☆\n1泊2日…26000円(宿泊・懇親会込)\n1日のみ…各日8000円(講義 他) \n☆お申込み締切☆​ \n5月29日（金）まで \nお申し込みはコチラから…\nhttps://forms.gle/iKtqG3X32GUmpbeJ9 \n 
URL:https://kenbiki.jp/membersevents/event/2026%e5%a4%8f%e3%80%80%e8%8d%89%e6%b4%a5%e6%b8%a9%e6%b3%89%e8%85%b1%e5%bc%95%e3%81%8d%e4%ba%a4%e6%b5%81%e4%bc%9a/
LOCATION:草津温泉道場（ホテル松巳）\, 吾妻郡草津町草津19-23\, 群馬県\, Japan
CATEGORIES:勉強会
END:VEVENT
END:VCALENDAR