BEGIN:VCALENDAR
VERSION:2.0
PRODID:-//腱引き師会イベント - ECPv6.13.2.1//NONSGML v1.0//EN
CALSCALE:GREGORIAN
METHOD:PUBLISH
X-ORIGINAL-URL:https://kenbiki.jp/membersevents
X-WR-CALDESC:腱引き師会イベント のイベント
REFRESH-INTERVAL;VALUE=DURATION:PT1H
X-Robots-Tag:noindex
X-PUBLISHED-TTL:PT1H
BEGIN:VTIMEZONE
TZID:Asia/Tokyo
BEGIN:STANDARD
TZOFFSETFROM:+0900
TZOFFSETTO:+0900
TZNAME:JST
DTSTART:20250101T000000
END:STANDARD
END:VTIMEZONE
BEGIN:VEVENT
DTSTART;TZID=Asia/Tokyo:20251009T130000
DTEND;TZID=Asia/Tokyo:20251010T160000
DTSTAMP:20260424T014152
CREATED:20250818T025220Z
LAST-MODIFIED:20250818T025220Z
UID:321-1760014800-1760112000@kenbiki.jp
SUMMARY:【大分県】女性のためのからだケア（初級～中級編）
DESCRIPTION:日時\n10月9日　（木）13:00〜17:00\n10月10日（金）10:00〜16:00 \n場所\n大分県日田市\n日田市複合文化施設AOSE\n（大分県日田市上城内町2-6） \n受講資格\n腱引き師資格以上の女性 \n持ち物\n会員証 \n参加費\n55\,000円 \n申し込みはこちら\nhttps://forms.gle/jFXNPA9xkq7GgEuG7 \n申込締め切り：9月10日 正午まで\n※お申込み後のキャンセル・返金は不可となります。
URL:https://kenbiki.jp/membersevents/event/%e3%80%90%e5%a4%a7%e5%88%86%e7%9c%8c%e3%80%91%e5%a5%b3%e6%80%a7%e3%81%ae%e3%81%9f%e3%82%81%e3%81%ae%e3%81%8b%e3%82%89%e3%81%a0%e3%82%b1%e3%82%a2%ef%bc%88%e5%88%9d%e7%b4%9a%ef%bd%9e%e4%b8%ad%e7%b4%9a/
LOCATION:日田市複合文化施設AOSE\, 上城内町2-6\, 日田市\, 大分県\, Japan
CATEGORIES:女性のためのからだケア資格講習会
END:VEVENT
BEGIN:VEVENT
DTSTART;TZID=Asia/Tokyo:20251012T100000
DTEND;TZID=Asia/Tokyo:20251013T150000
DTSTAMP:20260424T014152
CREATED:20250807T080303Z
LAST-MODIFIED:20250829T011828Z
UID:304-1760263200-1760367600@kenbiki.jp
SUMMARY:【東京】指導施術師認定・更新講習
DESCRIPTION:【受講料】\n・認定講習　88\,000円\n（講習料22\,000円　論文考査5\,500円　プレゼン考査5\,500円　実技試験11\,000\n円　学科試験11\,000円　資格認定料22\,000円　登録料11\,000円）\n・更新講習　33\,000円（講習料22\,000円　登録料11\,000円）\n【受講条件】\n専門指導施術師以上1名または指導施術師2名以上の受験推薦人が必要です\nその他、受講対象等については協会規約をご確認ください\n【提出論文】\nテーマ　「施術例を参考に問診・診断・施術方法についての体験論文\n筋整流法の今後の展望(自分との関わり・思い等)について」\nレポート用紙3枚以上\n事務局へ郵送またはメール添付にてお送りください\n※事前提出　9月18日(木)12時締切り\n【持ち物】\nノートPC・IDカード\n【お問い合わせ】\n嶋0120-746-154\n【お申込フォーム】\nhttps://docs.google.com/forms/d/e/1FAIpQLSeYUgYzhXT0wsrnv_bfl8a1PwMKi231FB2uP9nr-9ta6HLUxw/viewform?usp=header\n\n※宿泊は近隣のホテルを紹介します。（前泊か後泊も希望する場合はその旨を）
URL:https://kenbiki.jp/membersevents/event/tokyo20251012/
LOCATION:新宿駅近く（人数により開催場所がことなります）
CATEGORIES:指導施術師資格取得講習,指導資格者更新講習
END:VEVENT
BEGIN:VEVENT
DTSTART;TZID=Asia/Tokyo:20251014T110000
DTEND;TZID=Asia/Tokyo:20251015T160000
DTSTAMP:20260424T014152
CREATED:20251001T021050Z
LAST-MODIFIED:20251001T021204Z
UID:342-1760439600-1760544000@kenbiki.jp
SUMMARY:【横浜鶴見】女性のためのからだケア（初級・中級）
DESCRIPTION:「女性の身体ケア講習会」\n\n暑い夏が終わりそうで、なかなか涼しく なりませんね。\nこの時期、ぎっくり腰の方が多くなりますよね。\n皆様 忙しくお過ごしのことと思います。\n\n4月に新しく「女性の身体ケア」と名前を変えた 女性施術の講習会を開催致します。\nこれを機に、勉強をしてみたい方がいらっしゃいましたら 参考にしてください。\n講習内容は\n初めて「女性の身体ケア」を受ける方が対象です。\n  （以前に女性施術の講習を受けたけど、施術に不安や自信のない方は、別途ご相談ください）\n\n期日\n10月14日  火曜日\n10月15日  水曜日\n\n時間\n11:00〜16:00（両日）\n\n場所\n横浜市鶴見区\n腱引きリンパ和楽\n\n参加費\n55000円（食事代、宿泊費は各自でお願いします）\n\n持ち物\n腱引きIDカード\n（テキスト等お持ちの方は ご持参ください）\n\n連絡先\n横浜市鶴見区鶴見中央4-27-8  イクシア907室\n    高木 やす子\n\n\n電話\n090-6956-1584\nメール\nazuki.02140721@gmail.com\n\n【お申込み先】\nhttps://forms.gle/Wce1G31gEn2noBKW9\n\n締め切り期日\n10月10日（金）12：00\n（最少催行人数に達しています）
URL:https://kenbiki.jp/membersevents/event/%e3%80%90%e6%a8%aa%e6%b5%9c%e9%b6%b4%e8%a6%8b%e3%80%91%e5%a5%b3%e6%80%a7%e3%81%ae%e3%81%9f%e3%82%81%e3%81%ae%e3%81%8b%e3%82%89%e3%81%a0%e3%82%b1%e3%82%a2%ef%bc%88%e5%88%9d%e7%b4%9a%e3%83%bb%e4%b8%ad/
LOCATION:腱引きリンパ　和楽\, 鶴見区鶴見中央4-27-8 イクシア907室\, 横浜市\, 神奈川県\, 230-0051\, Japan
CATEGORIES:女性のためのからだケア資格講習会
END:VEVENT
END:VCALENDAR