BEGIN:VCALENDAR
VERSION:2.0
PRODID:-//腱引き師会イベント - ECPv6.13.2.1//NONSGML v1.0//EN
CALSCALE:GREGORIAN
METHOD:PUBLISH
X-WR-CALNAME:腱引き師会イベント
X-ORIGINAL-URL:https://kenbiki.jp/membersevents
X-WR-CALDESC:腱引き師会イベント のイベント
REFRESH-INTERVAL;VALUE=DURATION:PT1H
X-Robots-Tag:noindex
X-PUBLISHED-TTL:PT1H
BEGIN:VTIMEZONE
TZID:Asia/Tokyo
BEGIN:STANDARD
TZOFFSETFROM:+0900
TZOFFSETTO:+0900
TZNAME:JST
DTSTART:20260101T000000
END:STANDARD
END:VTIMEZONE
BEGIN:VEVENT
DTSTART;TZID=Asia/Tokyo:20260613T130000
DTEND;TZID=Asia/Tokyo:20260614T153000
DTSTAMP:20260421T215938
CREATED:20260403T043244Z
LAST-MODIFIED:20260408T042054Z
UID:504-1781355600-1781451000@kenbiki.jp
SUMMARY:2026夏　草津温泉腱引き交流会
DESCRIPTION:【 2026 夏 草津温泉 腱引き交流会 開催のお知らせ 】 \n全国の腱引き師の仲間が集い、技を磨き、志を分かち合う「草津温泉 交流会」も、おかげさまで今年で3年目を迎えます！ \n​今年も、特別顧問の小口先生、そして伝承者の嶋先生という、私たちの活動の核となるお二人を揃ってお迎えする、この上なく贅沢な機会となりました。 \n​今回のメインは何と言っても、お二人による濃厚な特別講義。 \n最高峰の視点から語られる言葉、そして研ぎ澄まされた技に直接触れられる時間は、まさに「濃ゆい」の一言に尽きます。 \n単なる座学・実技の勉強にとどまらず、仲間同士での切磋琢磨や、日頃の現場で抱える疑問・お悩みをお二人に直接ぶつけ、導きをいただける時間は、代えがたい学びとなるはずです。 \n​さらに、5月に東北で開催される勉強会とも深く連動しており、「片方だけでも十分すぎる内容だが、両方受講することでその教えはさらに立体的に深まる」とお二人からも伺っています。 \n両方参加を希望される方は、東北での気づきを、この草津の地で確かな血肉へとさらに昇華させましょう。 \n​そして、舞台は日本一の湯を誇る草津温泉。 \n私たちが日頃お客様にお伝えしている通り、腱引きの後に温泉で体を温めることは、調整された巡りをさらに加速させ、その効果を最大化させます。 \n草津の絶大な温泉効果と腱引きが共鳴する、心身ともにアップデートされる2日間。 \n​技を研ぎ、湯に癒え、仲間に触れる。\n皆様とこの熱い時間を共有できることを、心より楽しみにしております！ \n​【開催概要】\n☆​とき☆\n2026年6月13日(土) 13:00 ～\n14日(日) 15:30 \n☆​ところ☆\n草津温泉 「ホテル松巳」\n（名湯・湯畑にもほど近い、歴史あるお宿です）\n〒377-1711\n群馬県吾妻郡草津町大字草津19-23\n※草津温泉バスターミナルから徒歩5分 \n☆講義☆\n・小口先生\n「ファシアと腱引き療法」\n～身体観の更新と臨床への応用～\n・嶋先生\n​「運動指導と身体の環境づくり」\n～再施術か、負荷の調整か。一人ひとりに合わせた対応～ \n☆費用☆\n1泊2日…26000円(宿泊・懇親会込)\n1日のみ…各日8000円(講義 他) \n☆お申込み締切☆​ \n5月29日（金）まで \nお申し込みはコチラから…\nhttps://forms.gle/iKtqG3X32GUmpbeJ9 \n 
URL:https://kenbiki.jp/membersevents/event/2026%e5%a4%8f%e3%80%80%e8%8d%89%e6%b4%a5%e6%b8%a9%e6%b3%89%e8%85%b1%e5%bc%95%e3%81%8d%e4%ba%a4%e6%b5%81%e4%bc%9a/
LOCATION:草津温泉道場（ホテル松巳）\, 吾妻郡草津町草津19-23\, 群馬県\, Japan
CATEGORIES:勉強会
END:VEVENT
END:VCALENDAR