BEGIN:VCALENDAR
VERSION:2.0
PRODID:-//腱引き師会イベント - ECPv6.13.2.1//NONSGML v1.0//EN
CALSCALE:GREGORIAN
METHOD:PUBLISH
X-WR-CALNAME:腱引き師会イベント
X-ORIGINAL-URL:https://kenbiki.jp/membersevents
X-WR-CALDESC:腱引き師会イベント のイベント
REFRESH-INTERVAL;VALUE=DURATION:PT1H
X-Robots-Tag:noindex
X-PUBLISHED-TTL:PT1H
BEGIN:VTIMEZONE
TZID:Asia/Tokyo
BEGIN:STANDARD
TZOFFSETFROM:+0900
TZOFFSETTO:+0900
TZNAME:JST
DTSTART:20250101T000000
END:STANDARD
END:VTIMEZONE
BEGIN:VEVENT
DTSTART;TZID=Asia/Tokyo:20250809T130000
DTEND;TZID=Asia/Tokyo:20250809T160000
DTSTAMP:20260424T064523
CREATED:20250626T064206Z
LAST-MODIFIED:20250626T064206Z
UID:215-1754744400-1754755200@kenbiki.jp
SUMMARY:【宮崎】サクッと！8月復習会
DESCRIPTION:講習は受けたけど、まだ施術に自信がない、 『あれ?これで良いの?』など・・・そんな不安や悩みがある方も大丈夫! 確認したい方、みんなと練習したい方、自分のメンテナンスも兼ねてワイワイガヤガヤやりましょう!\n施術したり、されたりすることで苦手のあぶり出しができます\nそして自信を持って施術ができたら良いですね!\n\n\n受講資格】\n　 腱引き師資格以上の女性\n【持ち物】\n　 会員証\n【参加費】\n　 1回の参加につき 2\,500 円 ※当日、現地でのお支払い\n【駐車場】\n　 6台可\n【申し込み期限】\n　　8月04日 (12:00締切)
URL:https://kenbiki.jp/membersevents/event/%e3%80%90%e5%ae%ae%e5%b4%8e%e3%80%91%e3%82%b5%e3%82%af%e3%83%83%e3%81%a8%ef%bc%818%e6%9c%88%e5%be%a9%e7%bf%92%e4%bc%9a/
LOCATION:群馬県
END:VEVENT
END:VCALENDAR