BEGIN:VCALENDAR
VERSION:2.0
PRODID:-//腱引き師会イベント - ECPv6.13.2.1//NONSGML v1.0//EN
CALSCALE:GREGORIAN
METHOD:PUBLISH
X-ORIGINAL-URL:https://kenbiki.jp/membersevents
X-WR-CALDESC:腱引き師会イベント のイベント
REFRESH-INTERVAL;VALUE=DURATION:PT1H
X-Robots-Tag:noindex
X-PUBLISHED-TTL:PT1H
BEGIN:VTIMEZONE
TZID:Asia/Tokyo
BEGIN:STANDARD
TZOFFSETFROM:+0900
TZOFFSETTO:+0900
TZNAME:JST
DTSTART:20250101T000000
END:STANDARD
END:VTIMEZONE
BEGIN:VEVENT
DTSTART;TZID=Asia/Tokyo:20251118T130000
DTEND;TZID=Asia/Tokyo:20251118T150000
DTSTAMP:20260424T014020
CREATED:20251030T063245Z
LAST-MODIFIED:20251030T063245Z
UID:390-1763470800-1763478000@kenbiki.jp
SUMMARY:【新宿】部位別施術研究会
DESCRIPTION:嶋伝承者を講師に迎え、「部位別施術研究会」開催のお知らせ\n\n腱引き師各位\n\n来る11月度より、新人、若手の腱引き師、道場主、を対象に上記を開催致します。\nまずは基本施術の再確認、次に各部位の施術に対する各々の知識や施術方法等の\n情報交換を行い、最後に嶋伝承者より解説をして頂きます。11月の主題は腰痛です。\nお客様の主訴に対し未解決の事案等を持ち寄り、意見を交換し、施術をしあい、\nそしてその不明部分を嶋伝承者に解説していただき、みんなで結論を共有します。\nそれ以降は月ごとに部位を変えて研究会を行います。また、ベテラン腱引き師の方\nでもご自分の施術を見直し等、興味のある方はご参集下さい。\n\n日時　:　11月18日（火曜）　13時～15時\n\n場所　：　新宿しま整体院\n\n参加資格　：　腱引き師以上\n\n参加費　：　千円＊お試し価格（多数の場合、場所を変更し場所代は頭割りします）\n\n持ち物　：　会員証\n\n申し込み締め切り　：　11月14日（金曜）\n\n問い合わせ・申し込みはこちらから：菅野陽介　Eメール　yousuke-kan@ezweb.ne.jp
URL:https://kenbiki.jp/membersevents/event/%e3%80%90%e6%96%b0%e5%ae%bf%e3%80%91%e9%83%a8%e4%bd%8d%e5%88%a5%e6%96%bd%e8%a1%93%e7%a0%94%e7%a9%b6%e4%bc%9a/
LOCATION:新宿しま整体院\, 4-3-12\, 新宿区新宿\, 東京都\, 160-0022
CATEGORIES:勉強会
END:VEVENT
END:VCALENDAR