BEGIN:VCALENDAR
VERSION:2.0
PRODID:-//腱引き師会イベント - ECPv6.13.2.1//NONSGML v1.0//EN
CALSCALE:GREGORIAN
METHOD:PUBLISH
X-WR-CALNAME:腱引き師会イベント
X-ORIGINAL-URL:https://kenbiki.jp/membersevents
X-WR-CALDESC:腱引き師会イベント のイベント
REFRESH-INTERVAL;VALUE=DURATION:PT1H
X-Robots-Tag:noindex
X-PUBLISHED-TTL:PT1H
BEGIN:VTIMEZONE
TZID:Asia/Tokyo
BEGIN:STANDARD
TZOFFSETFROM:+0900
TZOFFSETTO:+0900
TZNAME:JST
DTSTART:20250101T000000
END:STANDARD
END:VTIMEZONE
BEGIN:VEVENT
DTSTART;TZID=Asia/Tokyo:20251128T130000
DTEND;TZID=Asia/Tokyo:20251129T160000
DTSTAMP:20260424T013856
CREATED:20251023T020555Z
LAST-MODIFIED:20251023T020555Z
UID:378-1764334800-1764432000@kenbiki.jp
SUMMARY:【山梨：11/28-11/29】女性のためのからだケア　初級・中級編
DESCRIPTION:【山梨:11/28-11/29】\n『女性のためのからだケア 初級・中級編』募集のお知らせ \n女性腱引き師各位 \n甲州けん引き道場 流麗サロンの小林かずみです。 \n11/28・29に、新たに小口昭宣最高顧問により再構成された『女性のためのからだケア 初級・中級編』の講習を山梨にて開催致します。 \n従来の女性施術がより進化し、初級編では腸もみ・子宮調整・妊婦施術など、中級編では子宮脱などに対する施術が行なえるようになる資格です。 \nこの講習には段位があり、初級を受講した後、要件を満たすことで中級→上級→講師→教授と昇段することができます。 \n今回の講習では、初めて受ける初級の方の他、既に初級の資格を持つ方の中で要件を満たしている方には中級へのレベルアップを目指していただくことができます。(中級認定には別途アンケートの提出などが必要です。) \nこの講習では小口先生が温めた最新版の手技の数々が写真入りで掲載されるテキストがプレゼントされます。(来年度からはテキスト代は別途5000円となります。)\n１日では学びきれない内容となっているので、たっぷり充実の2日間！！ \nその効果において他の療法とは一線を画す女性施術を、すでにお客さまへの施術を行っている腱引き師の皆さんも、この機会に さらに深めてみませんか？ \nまた、現在通常のカリキュラムにも入っている「原始腸ループ」ですが、まだ学んでいない、よくわからないという方も多いと感じます。この講習では、おなかの構造から見直すことができます。 \n新たにパワーアップした内容で展開する女性施術「女性のためのからだケア」で、自信を持ってお客さまに向き合えるよう、一緒にスキルアップしていきませんか？ \n皆さんのご参加をお待ちしています。 \n日時\n11月28日（金）13:00〜17:00\n11月29日（土）9:00〜16:00 \n場所\n筋整流法　殿原クラブ道場\n山梨県南巨摩郡富士川町最勝寺1538 \n受講資格\n腱引き師資格以上の女性 \n持ち物\n会員証 \n参加費\n55\,000円 (29日昼食付き)\nお申し込みはコチラから…https://forms.gle/aJQhtKpDiETZUf7r5
URL:https://kenbiki.jp/membersevents/event/%e3%80%90%e5%b1%b1%e6%a2%a8%ef%bc%9a11-28-11-29%e3%80%91%e5%a5%b3%e6%80%a7%e3%81%ae%e3%81%9f%e3%82%81%e3%81%ae%e3%81%8b%e3%82%89%e3%81%a0%e3%82%b1%e3%82%a2%e3%80%80%e5%88%9d%e7%b4%9a%e3%83%bb%e4%b8%ad/
LOCATION:筋整流法 殿原クラブ道場\, 山梨県\, 南巨摩郡富士川町最勝寺1538\, Japan
CATEGORIES:女性のためのからだケア資格講習会
END:VEVENT
END:VCALENDAR