BEGIN:VCALENDAR
VERSION:2.0
PRODID:-//腱引き師会イベント - ECPv6.13.2.1//NONSGML v1.0//EN
CALSCALE:GREGORIAN
METHOD:PUBLISH
X-ORIGINAL-URL:https://kenbiki.jp/membersevents
X-WR-CALDESC:腱引き師会イベント のイベント
REFRESH-INTERVAL;VALUE=DURATION:PT1H
X-Robots-Tag:noindex
X-PUBLISHED-TTL:PT1H
BEGIN:VTIMEZONE
TZID:Asia/Tokyo
BEGIN:STANDARD
TZOFFSETFROM:+0900
TZOFFSETTO:+0900
TZNAME:JST
DTSTART:20250101T000000
END:STANDARD
END:VTIMEZONE
BEGIN:VEVENT
DTSTART;TZID=Asia/Tokyo:20251130T133000
DTEND;TZID=Asia/Tokyo:20251130T170000
DTSTAMP:20260424T014014
CREATED:20250805T053423Z
LAST-MODIFIED:20250805T053613Z
UID:281-1764509400-1764522000@kenbiki.jp
SUMMARY:【岡山】小口昭宣による日本最高峰の勉強会「足底腱膜について」
DESCRIPTION:開催日時：2025年11月30日（日）　13：30～17：00\n開催場所：小原整骨院　〒712-8014　岡山県倉敷市連島中央2-3-22\n参加費：5\,000円\n持ち物：会員証 \n\n前日の11月29日（土）　19：00～　忘年会が開催されます。\n開催場所：煉瓦亭水島　〒712-8034 　岡山県倉敷市水島西栄町７−３\n会費：5\,000円（忘年会費は現地集金）\n\n※宿泊希望の方は個人で予約をお願いいたします。
URL:https://kenbiki.jp/membersevents/event/okayama20251130/
LOCATION:小原整骨院\, 倉敷市連島中央2-3-22\, 岡山県\, 712-8014\, Japan
CATEGORIES:勉強会
ATTACH;FMTTYPE=image/jpeg:https://kenbiki.jp/membersevents/wp-content/uploads/2025/08/DSC3115.jpg
END:VEVENT
END:VCALENDAR